BEGIN:VCALENDAR
VERSION:2.0
PRODID:-//WCFD - ECPv6.6.1//NONSGML v1.0//EN
CALSCALE:GREGORIAN
METHOD:PUBLISH
X-ORIGINAL-URL:https://wcfd.net/cms
X-WR-CALDESC:Events for WCFD
REFRESH-INTERVAL;VALUE=DURATION:PT1H
X-Robots-Tag:noindex
X-PUBLISHED-TTL:PT1H
BEGIN:VTIMEZONE
TZID:America/New_York
BEGIN:DAYLIGHT
TZOFFSETFROM:-0500
TZOFFSETTO:-0400
TZNAME:EDT
DTSTART:20240310T070000
END:DAYLIGHT
BEGIN:STANDARD
TZOFFSETFROM:-0400
TZOFFSETTO:-0500
TZNAME:EST
DTSTART:20241103T060000
END:STANDARD
BEGIN:DAYLIGHT
TZOFFSETFROM:-0500
TZOFFSETTO:-0400
TZNAME:EDT
DTSTART:20250309T070000
END:DAYLIGHT
BEGIN:STANDARD
TZOFFSETFROM:-0400
TZOFFSETTO:-0500
TZNAME:EST
DTSTART:20251102T060000
END:STANDARD
BEGIN:DAYLIGHT
TZOFFSETFROM:-0500
TZOFFSETTO:-0400
TZNAME:EDT
DTSTART:20260308T070000
END:DAYLIGHT
BEGIN:STANDARD
TZOFFSETFROM:-0400
TZOFFSETTO:-0500
TZNAME:EST
DTSTART:20261101T060000
END:STANDARD
END:VTIMEZONE
BEGIN:VEVENT
DTSTART;TZID=America/New_York:20240429T190000
DTEND;TZID=America/New_York:20240429T210000
DTSTAMP:20260421T091455
CREATED:20240418T231644Z
LAST-MODIFIED:20240418T232336Z
UID:597-1714417200-1714424400@wcfd.net
SUMMARY:Annual Meeting
DESCRIPTION:
URL:https://wcfd.net/cms/event/annual-meeting/
LOCATION:Western Coventry Fire District\, 1110 Victory Hwy\, Coventry\, RI\, 02827\, United States
CATEGORIES:Meetings
ORGANIZER;CN="Mariann Gardener":MAILTO:clerk@wcfd.net
END:VEVENT
BEGIN:VEVENT
DTSTART;VALUE=DATE:20240430
DTEND;VALUE=DATE:20240501
DTSTAMP:20260421T091455
CREATED:20231221T021603Z
LAST-MODIFIED:20231221T161851Z
UID:309-1714435200-1714521599@wcfd.net
SUMMARY:Taxes Quarter 3
DESCRIPTION:Quarter 3 taxes due. \nSee all related information on the taxpayers page.
URL:https://wcfd.net/cms/event/taxes-quarter-3/
CATEGORIES:Taxes
END:VEVENT
BEGIN:VEVENT
DTSTART;TZID=America/New_York:20240506T190000
DTEND;TZID=America/New_York:20240506T210000
DTSTAMP:20260421T091455
CREATED:20240418T232158Z
LAST-MODIFIED:20240418T233353Z
UID:599-1715022000-1715029200@wcfd.net
SUMMARY:Annual Meeting (Alternative)
DESCRIPTION:The annual meeting will occur on this date/time should inclement weather require reschedule from April 29\, 2024 at 7p.
URL:https://wcfd.net/cms/event/annual-meeting-alternative/
LOCATION:Western Coventry Fire District\, 1110 Victory Hwy\, Coventry\, RI\, 02827\, United States
CATEGORIES:Meetings
END:VEVENT
BEGIN:VEVENT
DTSTART;TZID=America/New_York:20240516T190000
DTEND;TZID=America/New_York:20240516T220000
DTSTAMP:20260421T091455
CREATED:20231221T010226Z
LAST-MODIFIED:20240418T233708Z
UID:252-1715886000-1715896800@wcfd.net
SUMMARY:Board of Directors
DESCRIPTION:Monthly Board of Directors meeting. Public welcome to attend. \nPlanned Agenda | Meeting Minutes | State Record
URL:https://wcfd.net/cms/event/board-of-directors-meeting-5/
LOCATION:Western Coventry Fire District\, 1110 Victory Hwy\, Coventry\, RI\, 02827\, United States
CATEGORIES:Meetings
ORGANIZER;CN="Mariann Gardener":MAILTO:clerk@wcfd.net
END:VEVENT
BEGIN:VEVENT
DTSTART;TZID=America/New_York:20240627T190000
DTEND;TZID=America/New_York:20240627T220000
DTSTAMP:20260421T091455
CREATED:20231221T010644Z
LAST-MODIFIED:20240627T215941Z
UID:259-1719514800-1719525600@wcfd.net
SUMMARY:Board of Directors
DESCRIPTION:This was rescheduled from 6/20. \nMonthly Board of Directors meeting. Public welcome to attend. \nPlanned Agenda | Meeting Minutes | State Record
URL:https://wcfd.net/cms/event/board-of-directors-2/
LOCATION:Western Coventry Fire District\, 1110 Victory Hwy\, Coventry\, RI\, 02827\, United States
CATEGORIES:Meetings
ORGANIZER;CN="Mariann Gardener":MAILTO:clerk@wcfd.net
END:VEVENT
BEGIN:VEVENT
DTSTART;TZID=America/New_York:20240718T190000
DTEND;TZID=America/New_York:20240718T220000
DTSTAMP:20260421T091455
CREATED:20231221T011132Z
LAST-MODIFIED:20240418T233741Z
UID:267-1721329200-1721340000@wcfd.net
SUMMARY:Board of Directors
DESCRIPTION:Monthly Board of Directors meeting. Public welcome to attend. \nPlanned Agenda | Meeting Minutes | State Record
URL:https://wcfd.net/cms/event/board-of-directors-3/
LOCATION:Western Coventry Fire District\, 1110 Victory Hwy\, Coventry\, RI\, 02827\, United States
CATEGORIES:Meetings
ORGANIZER;CN="Mariann Gardener":MAILTO:clerk@wcfd.net
END:VEVENT
BEGIN:VEVENT
DTSTART;VALUE=DATE:20240731
DTEND;VALUE=DATE:20240801
DTSTAMP:20260421T091455
CREATED:20231221T021651Z
LAST-MODIFIED:20231221T163129Z
UID:311-1722384000-1722470399@wcfd.net
SUMMARY:Taxes Quarter 4
DESCRIPTION:Quarter 4 taxes due. \nSee all related information on the taxpayers page.
URL:https://wcfd.net/cms/event/taxes-quarter-4/
CATEGORIES:Taxes
END:VEVENT
BEGIN:VEVENT
DTSTART;TZID=America/New_York:20240815T190000
DTEND;TZID=America/New_York:20240815T220000
DTSTAMP:20260421T091455
CREATED:20231221T011214Z
LAST-MODIFIED:20240418T233753Z
UID:269-1723748400-1723759200@wcfd.net
SUMMARY:Board of Directors
DESCRIPTION:Monthly Board of Directors meeting. Public welcome to attend. \nPlanned Agenda | Meeting Minutes | State Record
URL:https://wcfd.net/cms/event/board-of-directors-4/
LOCATION:Western Coventry Fire District\, 1110 Victory Hwy\, Coventry\, RI\, 02827\, United States
CATEGORIES:Meetings
ORGANIZER;CN="Mariann Gardener":MAILTO:clerk@wcfd.net
END:VEVENT
BEGIN:VEVENT
DTSTART;TZID=America/New_York:20240919T190000
DTEND;TZID=America/New_York:20240919T220000
DTSTAMP:20260421T091455
CREATED:20231221T011303Z
LAST-MODIFIED:20240418T233817Z
UID:271-1726772400-1726783200@wcfd.net
SUMMARY:Board of Directors
DESCRIPTION:Monthly Board of Directors meeting. Public welcome to attend. \nPlanned Agenda | Meeting Minutes | State Record
URL:https://wcfd.net/cms/event/board-of-directors-5/
LOCATION:Western Coventry Fire District\, 1110 Victory Hwy\, Coventry\, RI\, 02827\, United States
CATEGORIES:Meetings
ORGANIZER;CN="Mariann Gardener":MAILTO:clerk@wcfd.net
END:VEVENT
BEGIN:VEVENT
DTSTART;TZID=America/New_York:20241017T190000
DTEND;TZID=America/New_York:20241017T220000
DTSTAMP:20260421T091455
CREATED:20231221T011434Z
LAST-MODIFIED:20240418T233835Z
UID:275-1729191600-1729202400@wcfd.net
SUMMARY:Board of Directors
DESCRIPTION:Monthly Board of Directors meeting. Public welcome to attend. \nPlanned Agenda | Meeting Minutes | State Record
URL:https://wcfd.net/cms/event/board-of-directors-6/
LOCATION:Western Coventry Fire District\, 1110 Victory Hwy\, Coventry\, RI\, 02827\, United States
CATEGORIES:Meetings
ORGANIZER;CN="Mariann Gardener":MAILTO:clerk@wcfd.net
END:VEVENT
BEGIN:VEVENT
DTSTART;TZID=America/New_York:20241121T190000
DTEND;TZID=America/New_York:20241121T220000
DTSTAMP:20260421T091455
CREATED:20231221T011525Z
LAST-MODIFIED:20240418T233852Z
UID:277-1732215600-1732226400@wcfd.net
SUMMARY:Board of Directors
DESCRIPTION:Monthly Board of Directors meeting. Public welcome to attend. \nPlanned Agenda | Meeting Minutes | State Record
URL:https://wcfd.net/cms/event/board-of-directors-7/
LOCATION:Western Coventry Fire District\, 1110 Victory Hwy\, Coventry\, RI\, 02827\, United States
CATEGORIES:Meetings
ORGANIZER;CN="Mariann Gardener":MAILTO:clerk@wcfd.net
END:VEVENT
BEGIN:VEVENT
DTSTART;TZID=America/New_York:20241219T190000
DTEND;TZID=America/New_York:20241219T220000
DTSTAMP:20260421T091455
CREATED:20231221T011612Z
LAST-MODIFIED:20240418T233921Z
UID:279-1734634800-1734645600@wcfd.net
SUMMARY:Board of Directors
DESCRIPTION:Monthly Board of Directors meeting. Public welcome to attend. \nPlanned Agenda | Meeting Minutes | State Record
URL:https://wcfd.net/cms/event/board-of-directors-8/
LOCATION:Western Coventry Fire District\, 1110 Victory Hwy\, Coventry\, RI\, 02827\, United States
CATEGORIES:Meetings
ORGANIZER;CN="Mariann Gardener":MAILTO:clerk@wcfd.net
END:VEVENT
BEGIN:VEVENT
DTSTART;TZID=America/New_York:20250412T183000
DTEND;TZID=America/New_York:20250412T203000
DTSTAMP:20260421T091455
CREATED:20250412T153403Z
LAST-MODIFIED:20250412T153840Z
UID:902-1744482600-1744489800@wcfd.net
SUMMARY:25th Annual Burning of the Green
DESCRIPTION:
URL:https://wcfd.net/cms/event/25th-annual-burhttps-dashboard-mailerlite-com-forms-1384763-149133795962914006-sharenong-of-the-green/
LOCATION:Western Coventry Fire District\, 1110 Victory Hwy\, Coventry\, RI\, 02827\, United States
END:VEVENT
BEGIN:VEVENT
DTSTART;TZID=America/New_York:20250414T190000
DTEND;TZID=America/New_York:20250414T230000
DTSTAMP:20260421T091455
CREATED:20250412T161409Z
LAST-MODIFIED:20250412T161409Z
UID:912-1744657200-1744671600@wcfd.net
SUMMARY:WCFD Annual Meeting
DESCRIPTION:
URL:https://wcfd.net/cms/event/wcfd-annual-meeting-2/
LOCATION:Western Coventry Fire District\, 1110 Victory Hwy\, Coventry\, RI\, 02827\, United States
CATEGORIES:Events,Meetings
END:VEVENT
BEGIN:VEVENT
DTSTART;TZID=America/New_York:20250518T100000
DTEND;TZID=America/New_York:20250518T140000
DTSTAMP:20260421T091455
CREATED:20250516T003806Z
LAST-MODIFIED:20250516T004453Z
UID:992-1747562400-1747576800@wcfd.net
SUMMARY:Blood Drive
DESCRIPTION:The WCFD invites you to join us for the RI Blood Center Blood Drive.
URL:https://wcfd.net/cms/event/blood-drive/
LOCATION:Western Coventry Fire District\, 1110 Victory Hwy\, Coventry\, RI\, 02827\, United States
CATEGORIES:Events
END:VEVENT
BEGIN:VEVENT
DTSTART;TZID=America/New_York:20260217T180000
DTEND;TZID=America/New_York:20260217T180000
DTSTAMP:20260421T091455
CREATED:20260102T181036Z
LAST-MODIFIED:20260102T181315Z
UID:1195-1771351200-1771351200@wcfd.net
SUMMARY:Cigar Dinner- Fundraiser
DESCRIPTION:The firefighters are pleased to announce a Cigar Dinner and Fundraiser event at Mr. J's Cigar Lounge\, 2080 Nooseneck Hill Road\, Coventry\, on February 16\, 2026 beginning at 6:00pm.  Tickets are $50 per person and can be purchased from WCFD members or by calling the station between 9am - 1pm\, Monday-Friday.
URL:https://wcfd.net/cms/event/1195/
LOCATION:Mr J’s
CATEGORIES:Events
END:VEVENT
END:VCALENDAR