BEGIN:VCALENDAR
VERSION:2.0
PRODID:-//WCFD - ECPv6.6.1//NONSGML v1.0//EN
CALSCALE:GREGORIAN
METHOD:PUBLISH
X-ORIGINAL-URL:https://wcfd.net/cms
X-WR-CALDESC:Events for WCFD
REFRESH-INTERVAL;VALUE=DURATION:PT1H
X-Robots-Tag:noindex
X-PUBLISHED-TTL:PT1H
BEGIN:VTIMEZONE
TZID:America/New_York
BEGIN:DAYLIGHT
TZOFFSETFROM:-0500
TZOFFSETTO:-0400
TZNAME:EDT
DTSTART:20250309T070000
END:DAYLIGHT
BEGIN:STANDARD
TZOFFSETFROM:-0400
TZOFFSETTO:-0500
TZNAME:EST
DTSTART:20251102T060000
END:STANDARD
BEGIN:DAYLIGHT
TZOFFSETFROM:-0500
TZOFFSETTO:-0400
TZNAME:EDT
DTSTART:20260308T070000
END:DAYLIGHT
BEGIN:STANDARD
TZOFFSETFROM:-0400
TZOFFSETTO:-0500
TZNAME:EST
DTSTART:20261101T060000
END:STANDARD
END:VTIMEZONE
BEGIN:VEVENT
DTSTART;TZID=America/New_York:20250412T183000
DTEND;TZID=America/New_York:20250412T203000
DTSTAMP:20260420T073558
CREATED:20250412T153403Z
LAST-MODIFIED:20250412T153840Z
UID:902-1744482600-1744489800@wcfd.net
SUMMARY:25th Annual Burning of the Green
DESCRIPTION:
URL:https://wcfd.net/cms/event/25th-annual-burhttps-dashboard-mailerlite-com-forms-1384763-149133795962914006-sharenong-of-the-green/
LOCATION:Western Coventry Fire District\, 1110 Victory Hwy\, Coventry\, RI\, 02827\, United States
END:VEVENT
BEGIN:VEVENT
DTSTART;TZID=America/New_York:20250414T190000
DTEND;TZID=America/New_York:20250414T230000
DTSTAMP:20260420T073558
CREATED:20250412T161409Z
LAST-MODIFIED:20250412T161409Z
UID:912-1744657200-1744671600@wcfd.net
SUMMARY:WCFD Annual Meeting
DESCRIPTION:
URL:https://wcfd.net/cms/event/wcfd-annual-meeting-2/
LOCATION:Western Coventry Fire District\, 1110 Victory Hwy\, Coventry\, RI\, 02827\, United States
CATEGORIES:Events,Meetings
END:VEVENT
BEGIN:VEVENT
DTSTART;TZID=America/New_York:20250518T100000
DTEND;TZID=America/New_York:20250518T140000
DTSTAMP:20260420T073558
CREATED:20250516T003806Z
LAST-MODIFIED:20250516T004453Z
UID:992-1747562400-1747576800@wcfd.net
SUMMARY:Blood Drive
DESCRIPTION:The WCFD invites you to join us for the RI Blood Center Blood Drive.
URL:https://wcfd.net/cms/event/blood-drive/
LOCATION:Western Coventry Fire District\, 1110 Victory Hwy\, Coventry\, RI\, 02827\, United States
CATEGORIES:Events
END:VEVENT
BEGIN:VEVENT
DTSTART;TZID=America/New_York:20260217T180000
DTEND;TZID=America/New_York:20260217T180000
DTSTAMP:20260420T073558
CREATED:20260102T181036Z
LAST-MODIFIED:20260102T181315Z
UID:1195-1771351200-1771351200@wcfd.net
SUMMARY:Cigar Dinner- Fundraiser
DESCRIPTION:The firefighters are pleased to announce a Cigar Dinner and Fundraiser event at Mr. J's Cigar Lounge\, 2080 Nooseneck Hill Road\, Coventry\, on February 16\, 2026 beginning at 6:00pm.  Tickets are $50 per person and can be purchased from WCFD members or by calling the station between 9am - 1pm\, Monday-Friday.
URL:https://wcfd.net/cms/event/1195/
LOCATION:Mr J’s
CATEGORIES:Events
END:VEVENT
END:VCALENDAR