BEGIN:VCALENDAR
VERSION:2.0
PRODID:-//WCFD - ECPv6.6.1//NONSGML v1.0//EN
CALSCALE:GREGORIAN
METHOD:PUBLISH
X-ORIGINAL-URL:https://wcfd.net/cms
X-WR-CALDESC:Events for WCFD
REFRESH-INTERVAL;VALUE=DURATION:PT1H
X-Robots-Tag:noindex
X-PUBLISHED-TTL:PT1H
BEGIN:VTIMEZONE
TZID:America/New_York
BEGIN:DAYLIGHT
TZOFFSETFROM:-0500
TZOFFSETTO:-0400
TZNAME:EDT
DTSTART:20230312T070000
END:DAYLIGHT
BEGIN:STANDARD
TZOFFSETFROM:-0400
TZOFFSETTO:-0500
TZNAME:EST
DTSTART:20231105T060000
END:STANDARD
BEGIN:DAYLIGHT
TZOFFSETFROM:-0500
TZOFFSETTO:-0400
TZNAME:EDT
DTSTART:20240310T070000
END:DAYLIGHT
BEGIN:STANDARD
TZOFFSETFROM:-0400
TZOFFSETTO:-0500
TZNAME:EST
DTSTART:20241103T060000
END:STANDARD
END:VTIMEZONE
BEGIN:VEVENT
DTSTART;TZID=America/New_York:20240516T190000
DTEND;TZID=America/New_York:20240516T220000
DTSTAMP:20260419T130359
CREATED:20231221T010226Z
LAST-MODIFIED:20240418T233708Z
UID:252-1715886000-1715896800@wcfd.net
SUMMARY:Board of Directors
DESCRIPTION:Monthly Board of Directors meeting. Public welcome to attend. \nPlanned Agenda | Meeting Minutes | State Record
URL:https://wcfd.net/cms/event/board-of-directors-meeting-5/
LOCATION:Western Coventry Fire District\, 1110 Victory Hwy\, Coventry\, RI\, 02827\, United States
CATEGORIES:Meetings
ORGANIZER;CN="Mariann Gardener":MAILTO:clerk@wcfd.net
END:VEVENT
BEGIN:VEVENT
DTSTART;TZID=America/New_York:20240506T190000
DTEND;TZID=America/New_York:20240506T210000
DTSTAMP:20260419T130359
CREATED:20240418T232158Z
LAST-MODIFIED:20240418T233353Z
UID:599-1715022000-1715029200@wcfd.net
SUMMARY:Annual Meeting (Alternative)
DESCRIPTION:The annual meeting will occur on this date/time should inclement weather require reschedule from April 29\, 2024 at 7p.
URL:https://wcfd.net/cms/event/annual-meeting-alternative/
LOCATION:Western Coventry Fire District\, 1110 Victory Hwy\, Coventry\, RI\, 02827\, United States
CATEGORIES:Meetings
END:VEVENT
BEGIN:VEVENT
DTSTART;VALUE=DATE:20240430
DTEND;VALUE=DATE:20240501
DTSTAMP:20260419T130359
CREATED:20231221T021603Z
LAST-MODIFIED:20231221T161851Z
UID:309-1714435200-1714521599@wcfd.net
SUMMARY:Taxes Quarter 3
DESCRIPTION:Quarter 3 taxes due. \nSee all related information on the taxpayers page.
URL:https://wcfd.net/cms/event/taxes-quarter-3/
CATEGORIES:Taxes
END:VEVENT
BEGIN:VEVENT
DTSTART;TZID=America/New_York:20240429T190000
DTEND;TZID=America/New_York:20240429T210000
DTSTAMP:20260419T130359
CREATED:20240418T231644Z
LAST-MODIFIED:20240418T232336Z
UID:597-1714417200-1714424400@wcfd.net
SUMMARY:Annual Meeting
DESCRIPTION:
URL:https://wcfd.net/cms/event/annual-meeting/
LOCATION:Western Coventry Fire District\, 1110 Victory Hwy\, Coventry\, RI\, 02827\, United States
CATEGORIES:Meetings
ORGANIZER;CN="Mariann Gardener":MAILTO:clerk@wcfd.net
END:VEVENT
BEGIN:VEVENT
DTSTART;TZID=America/New_York:20240418T190000
DTEND;TZID=America/New_York:20240418T220000
DTSTAMP:20260419T130359
CREATED:20240418T233214Z
LAST-MODIFIED:20240418T233635Z
UID:602-1713466800-1713477600@wcfd.net
SUMMARY:Board of Directors
DESCRIPTION:Monthly Board of Directors meeting. Public welcome to attend. \nPlanned Agenda | Meeting Minutes | State Record
URL:https://wcfd.net/cms/event/board-of-directors-9/
LOCATION:Western Coventry Fire District\, 1110 Victory Hwy\, Coventry\, RI\, 02827\, United States
CATEGORIES:Meetings
ORGANIZER;CN="Mariann Gardener":MAILTO:clerk@wcfd.net
END:VEVENT
BEGIN:VEVENT
DTSTART;TZID=America/New_York:20240409T183000
DTEND;TZID=America/New_York:20240409T213000
DTSTAMP:20260419T130359
CREATED:20231221T005921Z
LAST-MODIFIED:20240418T234638Z
UID:250-1712687400-1712698200@wcfd.net
SUMMARY:Board of Directors
DESCRIPTION:Monthly Board of Directors meeting. Public welcome to attend. \nPlanned Agenda | Meeting Minutes | State Record
URL:https://wcfd.net/cms/event/board-of-directors-meeting-4/
LOCATION:Western Coventry Fire District\, 1110 Victory Hwy\, Coventry\, RI\, 02827\, United States
CATEGORIES:Meetings
ORGANIZER;CN="Mariann Gardener":MAILTO:clerk@wcfd.net
END:VEVENT
BEGIN:VEVENT
DTSTART;TZID=America/New_York:20240401T190000
DTEND;TZID=America/New_York:20240401T220000
DTSTAMP:20260419T130359
CREATED:20240418T234346Z
LAST-MODIFIED:20240418T234346Z
UID:604-1711998000-1712008800@wcfd.net
SUMMARY:Board of Directors
DESCRIPTION:Monthly Board of Directors meeting. Public welcome to attend. \nPlanned Agenda | Meeting Minutes | State Record
URL:https://wcfd.net/cms/event/board-of-directors-10/
LOCATION:Western Coventry Fire District\, 1110 Victory Hwy\, Coventry\, RI\, 02827\, United States
CATEGORIES:Meetings
ORGANIZER;CN="Mariann Gardener":MAILTO:clerk@wcfd.net
END:VEVENT
BEGIN:VEVENT
DTSTART;TZID=America/New_York:20240321T190000
DTEND;TZID=America/New_York:20240321T190000
DTSTAMP:20260419T130359
CREATED:20231221T005830Z
LAST-MODIFIED:20231221T161800Z
UID:248-1711047600-1711047600@wcfd.net
SUMMARY:Board of Directors
DESCRIPTION:Monthly Board of Directors meeting. Public welcome to attend. \nPlanned Agenda | Meeting Minutes | State Record
URL:https://wcfd.net/cms/event/board-of-directors-meeting-3/
LOCATION:Western Coventry Fire District\, 1110 Victory Hwy\, Coventry\, RI\, 02827\, United States
CATEGORIES:Meetings
ORGANIZER;CN="Mariann Gardener":MAILTO:clerk@wcfd.net
END:VEVENT
BEGIN:VEVENT
DTSTART;TZID=America/New_York:20240307T190000
DTEND;TZID=America/New_York:20240307T190000
DTSTAMP:20260419T130359
CREATED:20240216T021147Z
LAST-MODIFIED:20240216T021239Z
UID:571-1709838000-1709838000@wcfd.net
SUMMARY:SAP Committee
DESCRIPTION:Quarterly Standard Administrative Procedure (SAP) Committee meeting. \nPlanned Agenda | Meeting Minutes | State Record
URL:https://wcfd.net/cms/event/sap-committee-2/
LOCATION:Western Coventry Fire District\, 1110 Victory Hwy\, Coventry\, RI\, 02827\, United States
CATEGORIES:Meetings
ORGANIZER;CN="Mariann Gardener":MAILTO:clerk@wcfd.net
END:VEVENT
BEGIN:VEVENT
DTSTART;TZID=America/New_York:20240215T190000
DTEND;TZID=America/New_York:20240215T190000
DTSTAMP:20260419T130359
CREATED:20231221T005752Z
LAST-MODIFIED:20231221T161744Z
UID:246-1708023600-1708023600@wcfd.net
SUMMARY:Board of Directors
DESCRIPTION:Monthly Board of Directors meeting. Public welcome to attend. \nPlanned Agenda | Meeting Minutes | State Record
URL:https://wcfd.net/cms/event/board-of-directors-meeting-2/
LOCATION:Western Coventry Fire District\, 1110 Victory Hwy\, Coventry\, RI\, 02827\, United States
CATEGORIES:Meetings
ORGANIZER;CN="Mariann Gardener":MAILTO:clerk@wcfd.net
END:VEVENT
BEGIN:VEVENT
DTSTART;VALUE=DATE:20240131
DTEND;VALUE=DATE:20240201
DTSTAMP:20260419T130359
CREATED:20231221T021425Z
LAST-MODIFIED:20231221T161729Z
UID:306-1706659200-1706745599@wcfd.net
SUMMARY:Taxes Quarter 2
DESCRIPTION:Quarter 2 taxes due\, or full amount. \nSee all related information on the taxpayers page.
URL:https://wcfd.net/cms/event/taxes-quarter-1/
CATEGORIES:Taxes
END:VEVENT
BEGIN:VEVENT
DTSTART;TZID=America/New_York:20240125T190000
DTEND;TZID=America/New_York:20240125T190000
DTSTAMP:20260419T130359
CREATED:20231221T003915Z
LAST-MODIFIED:20231222T014221Z
UID:236-1706209200-1706209200@wcfd.net
SUMMARY:Board of Directors
DESCRIPTION:Monthly Board of Directors meeting. Public welcome to attend. \nPlanned Agenda | Meeting Minutes | State Record
URL:https://wcfd.net/cms/event/board-of-directors-meeting/
LOCATION:Western Coventry Fire District\, 1110 Victory Hwy\, Coventry\, RI\, 02827\, United States
CATEGORIES:Meetings
ORGANIZER;CN="Mariann Gardener":MAILTO:clerk@wcfd.net
END:VEVENT
BEGIN:VEVENT
DTSTART;TZID=America/New_York:20240104T190000
DTEND;TZID=America/New_York:20240104T190000
DTSTAMP:20260419T130359
CREATED:20231221T063626Z
LAST-MODIFIED:20231221T161650Z
UID:389-1704394800-1704394800@wcfd.net
SUMMARY:SAP Committee
DESCRIPTION:Quarterly Standard Administrative Procedure (SAP) Committee meeting. \nPlanned Agenda | Meeting Minutes | State Record
URL:https://wcfd.net/cms/event/sap-committee/
LOCATION:Western Coventry Fire District\, 1110 Victory Hwy\, Coventry\, RI\, 02827\, United States
CATEGORIES:Meetings
ORGANIZER;CN="Mariann Gardener":MAILTO:clerk@wcfd.net
END:VEVENT
BEGIN:VEVENT
DTSTART;TZID=America/New_York:20231221T190000
DTEND;TZID=America/New_York:20231221T210000
DTSTAMP:20260419T130359
CREATED:20231221T001231Z
LAST-MODIFIED:20231222T013646Z
UID:225-1703185200-1703192400@wcfd.net
SUMMARY:Board of Directors
DESCRIPTION:Monthly Board of Directors meeting. Public welcome to attend. \nPlanned Agenda | Meeting Minutes | State Record
URL:https://wcfd.net/cms/event/board-of-directors/
LOCATION:Western Coventry Fire District\, 1110 Victory Hwy\, Coventry\, RI\, 02827\, United States
CATEGORIES:Meetings
ORGANIZER;CN="Mariann Gardener":MAILTO:clerk@wcfd.net
END:VEVENT
END:VCALENDAR